BEGIN:VCALENDAR
VERSION:2.0
PRODID:-//Grand Farm - ECPv6.11.0.1//NONSGML v1.0//EN
CALSCALE:GREGORIAN
METHOD:PUBLISH
X-WR-CALNAME:Grand Farm
X-ORIGINAL-URL:https://grandfarms-elementor.ep-serv3.onsharpstaging.com
X-WR-CALDESC:Events for Grand Farm
REFRESH-INTERVAL;VALUE=DURATION:PT1H
X-Robots-Tag:noindex
X-PUBLISHED-TTL:PT1H
BEGIN:VTIMEZONE
TZID:UTC
BEGIN:STANDARD
TZOFFSETFROM:+0000
TZOFFSETTO:+0000
TZNAME:UTC
DTSTART:20230101T000000
END:STANDARD
END:VTIMEZONE
BEGIN:VEVENT
DTSTART;VALUE=DATE:20230829
DTEND;VALUE=DATE:20230830
DTSTAMP:20260420T124936
CREATED:20221117T222704Z
LAST-MODIFIED:20221117T222704Z
UID:4368-1693267200-1693353599@grandfarms-elementor.ep-serv3.onsharpstaging.com
SUMMARY:Autonomous Nation Conference
DESCRIPTION:Autonomous Nation is a full-day conference bringing together policymakers from the local\, state\, and national levels with industry entrepreneurs and innovators to help make our region the most autonomous-friendly area in the country. The conference will focus on the autonomous industry and the impact it can have across our region\, solving issues such as workforce shortages\, inefficiencies\, and technology gaps. Take a look at photos from last year’s Autonomous Nation! \nThis event was formerly known as Drone Focus. \n  \nWhat to Expect: \n\nAccess to policymakers: One of North Dakota’s competitive advantages is our access to policymakers. We will be inviting local and state lawmakers and are looking at bringing in federal lawmakers as well.\nRelevant Content: Throughout the event\, you will find that our content is woven together in a narrative focused on building the infrastructure\, policies\, software\, hardware\, and tools for the autonomous nation of the future.\nReal-time Demonstrations: We will work with industry to bring some of the latest autonomous equipment to demonstrate during the event.
URL:https://grandfarms-elementor.ep-serv3.onsharpstaging.com/calendar/autonomous-nation-conference/
ATTACH;FMTTYPE=image/png:https://grandfarms-elementor.ep-serv3.onsharpstaging.com/wp-content/uploads/2022/11/Autonomous-Nation_Digital-Graphics2.png
END:VEVENT
BEGIN:VEVENT
DTSTART;VALUE=DATE:20230608
DTEND;VALUE=DATE:20230609
DTSTAMP:20260420T124936
CREATED:20221117T221720Z
LAST-MODIFIED:20221117T221720Z
UID:4365-1686182400-1686268799@grandfarms-elementor.ep-serv3.onsharpstaging.com
SUMMARY:Cultivate Conference
DESCRIPTION:Cultivate Conference is an agriculture technology conference that convenes innovators to explore technology innovations they’ve created\, are currently building\, or are searching for in their industry. The conference seeks to energize the AgTech community by showcasing the latest innovation in AgTech and how it solves real world problems faced by the agriculture industry. Take a look at photos from last year’s Cultivate Conference! \n\nGoals of the Conference: \n\nAccelerate innovation in agriculture by exposing work being done in the industry\nProvide a platform for  growers to give their feedback on work being done in AgTech\nCreate connections between startups\, corporations\, investors\, growers\, and universities\nHighlight public-private partnerships in the industry and areas of opportunity
URL:https://grandfarms-elementor.ep-serv3.onsharpstaging.com/calendar/cultivate-conference/
ATTACH;FMTTYPE=image/png:https://grandfarms-elementor.ep-serv3.onsharpstaging.com/wp-content/uploads/2022/11/2021-Cultivate-Design-Tools6.png
END:VEVENT
BEGIN:VEVENT
DTSTART;TZID=UTC:20230404T130000
DTEND;TZID=UTC:20230404T170000
DTSTAMP:20260420T124936
CREATED:20221117T204626Z
LAST-MODIFIED:20221117T204626Z
UID:4359-1680613200-1680627600@grandfarms-elementor.ep-serv3.onsharpstaging.com
SUMMARY:Space Ag Conference
DESCRIPTION:Space Ag Conference is a half-day conference exploring advanced agriculture technologies to elevate the future of the AgTech industry in space. Often\, solving for challenges in space can help solve challenges on earth. Take a look at photos from last year’s Space Ag Conference! \nOur world food production system is undergoing a dramatic shift towards sustainable food practices and increased food security. Space agriculture\, and the technology it creates\, could catalyze the development of high-yield crop production that requires less land and less energy\, providing farmers with the ability to create more with less.
URL:https://grandfarms-elementor.ep-serv3.onsharpstaging.com/calendar/space-ag-conference/
LOCATION:University of North Dakota
ATTACH;FMTTYPE=image/jpeg:https://grandfarms-elementor.ep-serv3.onsharpstaging.com/wp-content/uploads/2021/06/Space-Ag-Conference_website-scaled.jpg
ORGANIZER;CN="Grand Farm":MAILTO:info@emergingprairie.com
END:VEVENT
END:VCALENDAR